BEGIN:VCALENDAR
VERSION:2.0
PRODID:-//eventon.com NONSGML v1.0//EN
CALSCALE:GREGORIAN
METHOD:PUBLISH
BEGIN:VEVENT
UID:69eaf09fa3074
DTSTAMP:20260424T042503Z
DTSTART:20160611T090000Z
DTEND:20160611T120000Z
LOCATION:Farum Kyokushin Karate Ryttergårdsvej 140\,  3520 Farum
SUMMARY:Graduering for alle børn på børneholdet onsdag/søndag
DESCRIPTION:Lørdag d. 11. juni afholdes der graduering for alle børn\, 
  der træner på børneholdet onsdag og/eller søndag. Gradueringen starter
  kl. 11.00 &#8211; 14.00. Bælteprøve (graduering): 100 kr. Desuden 50 kr
 . hvis bæltet skal skiftes til ny farve efter graduering. Begge betales in
 den gradueringen til konto 1551-10481376. Konto 1551-10481376 &#8211; til b
 rug ved indbetaling[..]\nhttps://farumkyokushin.dk/events/graduering-boern-
 paa-boerneholdet-onsdagsoendag/
URL:https://farumkyokushin.dk/events/graduering-boern-paa-boerneholdet-onsdagsoendag/
END:VEVENT
END:VCALENDAR