BEGIN:VCALENDAR
VERSION:2.0
PRODID:-//eventon.com NONSGML v1.0//EN
CALSCALE:GREGORIAN
METHOD:PUBLISH
BEGIN:VEVENT
UID:69ecbc661ff29
DTSTAMP:20260425T130646Z
DTSTART:20161213T154500Z
DTEND:20161213T170000Z
LOCATION:Farum Kyokushin Karate Ryttergårdsvej 140\,  3520 Farum
SUMMARY:Graduering for begynderholdet fra september 2016
DESCRIPTION:Tirsdag d. 13. december afholdes der graduering for begynderho
 ldet fra september 2016. Gradueringen vil blive afholdt kl. 16.45 &#8211;
  18.00. Bælteprøve (graduering): 100 kr. Desuden 50 kr. hvis bæltet skal
  skiftes til ny farve efter graduering. Begge betales inden gradueringen ti
 l konto 1551-10481376. Konto 1551-10481376 &#8211; til brug ved indbetaling
  til lejre\,  gradueringer[..]\nhttps://farumkyokushin.dk/events/graduering
 -begynderholdet-september-2016/
URL:https://farumkyokushin.dk/events/graduering-begynderholdet-september-2016/
END:VEVENT
END:VCALENDAR