BEGIN:VCALENDAR
VERSION:2.0
PRODID:-//eventon.com NONSGML v1.0//EN
CALSCALE:GREGORIAN
METHOD:PUBLISH
BEGIN:VEVENT
UID:69ecd7369b6ad
DTSTAMP:20260425T150110Z
DTSTART:20160830T144500Z
DTEND:20160830T160000Z
LOCATION:Farum Kyokushin Karate Ryttergårdsvej 140\,  3520 Farum
SUMMARY:Graduering for begynderholdet fra marts 2016
DESCRIPTION:Tirsdag d. 30. august afholdes der graduering for begynderhold
 et fra marts 2016. Gradueringen vil blive afholdt kl. 16.45 &#8211; 18.00
 . Bælteprøve (graduering): 100 kr. Desuden 50 kr. hvis bæltet skal skift
 es til ny farve efter graduering. Begge betales inden gradueringen til kont
 o 1551-10481376. Konto 1551-10481376 &#8211; til brug ved indbetaling til l
 ejre\,  gradueringer[..]\nhttps://farumkyokushin.dk/events/graduering-begyn
 derholdet-marts-2016-2/
URL:https://farumkyokushin.dk/events/graduering-begynderholdet-marts-2016-2/
END:VEVENT
END:VCALENDAR