BEGIN:VCALENDAR
VERSION:2.0
PRODID:-//eventon.com NONSGML v1.0//EN
CALSCALE:GREGORIAN
METHOD:PUBLISH
BEGIN:VEVENT
UID:69eceef90617d
DTSTAMP:20260425T164233Z
DTSTART:20160531T144500Z
DTEND:20160531T160000Z
LOCATION:Farum Kyokushin Karate Ryttergårdsvej 140\,  3520 Farum
SUMMARY:Graduering for begynderholdet fra marts 2016
DESCRIPTION:Tirsdag d. 31. maj afholdes der graduering for begynderholdet 
 fra marts 2016. Gradueringen vil blive afholdt kl. 16.45 &#8211; 18.00. B
 ælteprøve (graduering): 100 kr. Desuden 50 kr. hvis bæltet skal skiftes 
 til ny farve efter graduering. Begge betales inden gradueringen til konto 1
 551-10481376. Konto 1551-10481376 &#8211; til brug ved indbetaling til lejr
 e\,  gradueringer[..]\nhttps://farumkyokushin.dk/events/graduering-begynder
 holdet-marts-2016/
URL:https://farumkyokushin.dk/events/graduering-begynderholdet-marts-2016/
END:VEVENT
END:VCALENDAR