BEGIN:VCALENDAR
VERSION:2.0
PRODID:-//eventon.com NONSGML v1.0//EN
CALSCALE:GREGORIAN
METHOD:PUBLISH
BEGIN:VEVENT
UID:69ed065a865ff
DTSTAMP:20260425T182218Z
DTSTART:20160225T154500Z
DTEND:20160225T170000Z
LOCATION:Farum Kyokushin Karate Ryttergårdsvej 140\,  3520 Farum
SUMMARY:Graduering for begynderholdet fra september 2015
DESCRIPTION:Torsdag d. 25. februar afholdes der graduering for begynderhol
 det fra september 2015. Gradueringen vil blive afholdt kl. 16.45 &#8211; 
 18.00. Bælteprøve (graduering): 100 kr. Desuden 50 kr. hvis bæltet skal 
 skiftes til ny farve efter graduering. Begge betales inden gradueringen til
  konto 1551-10481376. Konto 1551-10481376 &#8211; til brug ved indbetaling 
 til lejre\,  gradueringer[..]\nhttps://farumkyokushin.dk/events/graduering-
 begynderholdet-september-2015/
URL:https://farumkyokushin.dk/events/graduering-begynderholdet-september-2015/
END:VEVENT
END:VCALENDAR