BEGIN:VCALENDAR
VERSION:2.0
PRODID:-//eventon.com NONSGML v1.0//EN
CALSCALE:GREGORIAN
METHOD:PUBLISH
BEGIN:VEVENT
UID:69ed1eb73d55d
DTSTAMP:20260425T200615Z
DTSTART:20160228T090000Z
DTEND:20160228T000000Z
LOCATION:Farum Kyokushin Karate Ryttergårdsvej 140\,  3520 Farum
SUMMARY:Trekampstævne 2016
DESCRIPTION:[gview file=&#8221;https://farumkyokushin.dk/wp-content/uploads
 /2016/01/Trekamp-2016.docx&#8221; height=&#8221;500px&#8221; width=&#8221;1
 00%&#8221; save=&#8221;1&#8243;] [gview file=&#8221;https://farumkyokushin.
 dk/wp-content/uploads/2016/01/Lægeseddel-2016.doc&#8221; height=&#8221;400
 px&#8221; width=&#8221;100%&#8221; save=&#8221;1&#8243;]\nhttps://farumkyok
 ushin.dk/events/trekampstaevne-2016/
URL:https://farumkyokushin.dk/events/trekampstaevne-2016/
END:VEVENT
END:VCALENDAR