BEGIN:VCALENDAR
VERSION:2.0
PRODID:-//eventon.com NONSGML v1.0//EN
CALSCALE:GREGORIAN
METHOD:PUBLISH
BEGIN:VEVENT
UID:69ed3cc466252
DTSTAMP:20260425T221428Z
DTSTART:20151221T170000Z
DTEND:20151221T183000Z
LOCATION:Farum Kyokushin Karate Ryttergårdsvej 140\,  3520 Farum
SUMMARY:Juleafslutning!
DESCRIPTION:Juleafslutning! Mandag d. 21. december vil der kun være fælle
 stræning for alle grader kl. 18.00 – 19.30. Husk den obligatoriske niss
 ehue!\nhttps://farumkyokushin.dk/events/juleafslutning-2/
URL:https://farumkyokushin.dk/events/juleafslutning-2/
END:VEVENT
END:VCALENDAR