BEGIN:VCALENDAR
VERSION:2.0
PRODID:-//eventon.com NONSGML v1.0//EN
CALSCALE:GREGORIAN
METHOD:PUBLISH
BEGIN:VEVENT
UID:69ed5cb32d634
DTSTAMP:20260426T003043Z
DTSTART:20160101T140000Z
DTEND:20160101T160000Z
LOCATION:Farum Kyokushin Karate Ryttergårdsvej 140\,  3520 Farum
SUMMARY:Nytårstræning 2016\,  Kagami Biraki
DESCRIPTION:Traditionen tro afholdes der nytårstræning d. 1. januar! Lad 
 os sammen sparke 2016 godt ind. Fællestræningen er for alle aldre og gra
 der kl. 15.00 &#8211; 17.00.\nhttps://farumkyokushin.dk/events/nytaarstraen
 ing-2016-kagami-biraki/
URL:https://farumkyokushin.dk/events/nytaarstraening-2016-kagami-biraki/
END:VEVENT
END:VCALENDAR