BEGIN:VCALENDAR
VERSION:2.0
PRODID:-//eventon.com NONSGML v1.0//EN
CALSCALE:GREGORIAN
METHOD:PUBLISH
BEGIN:VEVENT
UID:69ed78f5350b6
DTSTAMP:20260426T023117Z
DTSTART:20151215T154500Z
DTEND:20151215T170000Z
LOCATION:Farum Kyokushin Karate Ryttergårdsvej 140\,  3520 Farum
SUMMARY:Graduering for september-holdet 2015\,  børn og voksne
DESCRIPTION:Tirsdag d. 15. december afholdes der graduering for begynderho
 ldet fra september 2015. Gradueringen vil blive afholdt kl. 16.45 &#8211;
  18.00. Bælteprøve (graduering): 100 kr. Desuden 50 kr. hvis bæltet skal
  skiftes til ny farve efter graduering. Begge betales inden gradueringen ti
 l konto 1551-10481376. Konto 1551-10481376 &#8211; til brug ved indbetaling
  til lejre\,  gradueringer[..]\nhttps://farumkyokushin.dk/events/graduering
 -for-september-holdet-2015-boern-og-voksne/
URL:https://farumkyokushin.dk/events/graduering-for-september-holdet-2015-boern-og-voksne/
END:VEVENT
END:VCALENDAR