BEGIN:VCALENDAR
VERSION:2.0
PRODID:-//eventon.com NONSGML v1.0//EN
CALSCALE:GREGORIAN
METHOD:PUBLISH
BEGIN:VEVENT
UID:69e4cedd1e069
DTSTAMP:20260419T124725Z
DTSTART:20180616
DTEND:20180617
LOCATION:Farum Kyokushin Karate Ryttergårdsvej 140\,  3520 Farum
SUMMARY:Graduering for kids og børneholdet
DESCRIPTION:Gradueringsseddel_juni_2018\nhttps://farumkyokushin.dk/events/g
 raduering-for-kids-og-boerneholdet/
URL:https://farumkyokushin.dk/events/graduering-for-kids-og-boerneholdet/
END:VEVENT
END:VCALENDAR