BEGIN:VCALENDAR
VERSION:2.0
PRODID:-//eventon.com NONSGML v1.0//EN
CALSCALE:GREGORIAN
METHOD:PUBLISH
BEGIN:VEVENT
UID:69e7399522306
DTSTAMP:20260421T084717Z
DTSTART:20180618T150000Z
DTEND:20180618T215000Z
LOCATION:Farum Kyokushin Karate Ryttergårdsvej 140\,  3520 Farum
SUMMARY:Graduering for voksne\,  14 år og op
DESCRIPTION:Mandag d. 18. juni 2018&nbsp;afholdes&nbsp;der graduering for a
 lle voksne (fra 14 år og op). Gradueringen&nbsp;vil starte kl. 1700. Bælt
 eprøve (graduering): 100 kr. Desuden 50 kr. hvis bæltet skal skiftes til 
 ny farve efter graduering. Begge betales inden gradueringen til konto 1551-
 10481376. Konto 1551-10481376 &#8211; til brug ved indbetaling til lejre\, 
 [..]\nhttps://farumkyokushin.dk/events/graduering-for-voksne-17-aar-og-op/
URL:https://farumkyokushin.dk/events/graduering-for-voksne-17-aar-og-op/
END:VEVENT
END:VCALENDAR