BEGIN:VCALENDAR
VERSION:2.0
PRODID:-//eventon.com NONSGML v1.0//EN
CALSCALE:GREGORIAN
METHOD:PUBLISH
BEGIN:VEVENT
UID:69e4fc5c3f40a
DTSTAMP:20260419T160132Z
DTSTART:20180415T071500Z
DTEND:20180415T133000Z
LOCATION:BS Karate Tuborgvej 185\,  2400 København NV
SUMMARY:BS Karate - Fødselsdag og seminar
DESCRIPTION:10 års fødselsdag Invitation\nhttps://farumkyokushin.dk/event
 s/bs-karate-foedselsdag-og-seminar/
URL:https://farumkyokushin.dk/events/bs-karate-foedselsdag-og-seminar/
END:VEVENT
END:VCALENDAR