BEGIN:VCALENDAR
VERSION:2.0
PRODID:-//eventon.com NONSGML v1.0//EN
CALSCALE:GREGORIAN
METHOD:PUBLISH
BEGIN:VEVENT
UID:69e512f3d5370
DTSTAMP:20260419T173755Z
DTSTART:20180421T100000Z
DTEND:20180421T102000Z
LOCATION:Farum Bytorv Farum Bytorv 73\,  3520 Farum
SUMMARY:Motionsdag på Farum Bytorv
DESCRIPTION:Lørdag d. 21. april afholdes der motionsdag på Farum Bytorv. 
 Motionsdagen giver flere sportsklubber og -foreninger i Furesø Kommune mul
 ighed for at promovere sig selv\,  og det skal Farum Kyokushin naturligvis 
 også! Motionsdagen afholdes kl. 1100 &#8211; 1500 på Farum Bytorv\,  og v
 i vil være på kl. 1200 &#8211; 1220.[..]\nhttps://farumkyokushin.dk/event
 s/motionsdag-paa-farum-bytorv/
URL:https://farumkyokushin.dk/events/motionsdag-paa-farum-bytorv/
END:VEVENT
END:VCALENDAR