BEGIN:VCALENDAR
VERSION:2.0
PRODID:-//eventon.com NONSGML v1.0//EN
CALSCALE:GREGORIAN
METHOD:PUBLISH
BEGIN:VEVENT
UID:69e52aea287fb
DTSTAMP:20260419T192010Z
DTSTART:20180301T160000Z
DTEND:20180301T170000Z
LOCATION:Farum Kyokushin Karate Ryttergårdsvej 140\,  3520 Farum
SUMMARY:Graduering for begynderholdet
DESCRIPTION:Torsdag d. 1. marts 2018&nbsp;afholdes&nbsp;der graduering for 
 begynderholdet. Gradueringen&nbsp;vil blive afholdt kl. 1700 &#8211; 1800. 
 Bælteprøve (graduering): 100 kr. Desuden 50 kr. hvis bæltet skal skiftes
  til ny farve efter graduering. Begge betales inden gradueringen til konto 
 1551-10481376. Konto 1551-10481376 &#8211; til brug ved indbetaling til lej
 re\,  gradueringer mv.\nhttps://farumkyokushin.dk/events/graduering-for-beg
 ynderholdet-2/
URL:https://farumkyokushin.dk/events/graduering-for-begynderholdet-2/
END:VEVENT
END:VCALENDAR