BEGIN:VCALENDAR
VERSION:2.0
PRODID:-//eventon.com NONSGML v1.0//EN
CALSCALE:GREGORIAN
METHOD:PUBLISH
BEGIN:VEVENT
UID:69e5479a55f29
DTSTAMP:20260419T212234Z
DTSTART:20180824T170000Z
DTEND:20180826T140000Z
LOCATION:Danhostel Møn Klintholm Havnevej 17a\,  4791 Borre
SUMMARY:Mønlejr 2018
DESCRIPTION:Udover nedenstående opslag henviser vi til den generelle huske
 liste til lejre. Klik her for at gå til huskelisten! &nbsp; Mønlejr 2018\
 nhttps://farumkyokushin.dk/events/moenlejr-2018/
URL:https://farumkyokushin.dk/events/moenlejr-2018/
END:VEVENT
END:VCALENDAR