BEGIN:VCALENDAR
VERSION:2.0
PRODID:-//eventon.com NONSGML v1.0//EN
CALSCALE:GREGORIAN
METHOD:PUBLISH
BEGIN:VEVENT
UID:69e5610a16bcb
DTSTAMP:20260419T231106Z
DTSTART:20180210T100000Z
DTEND:20180210T103000Z
LOCATION:Farum Bytorv Farum Bytorv 73\,  3520 Farum
SUMMARY:Fastelavn pÃ¥ Farum Bytorv
DESCRIPTION:LÃ¸rdag d. 10. februar&nbsp;afholdes der fastelavn pÃ¥ Farum By
 torv\,  og Farum Kyokushin Karate deltager naturligvis med spark og slag pÃ
 ¥ tÃ¸nderne! Alle aldre og grader kan deltage. Vi mÃ¸des omklÃ¦dt kl. 1045 
 pÃ¥ Store Torv (ved Irma inde pÃ¥ Bytorvet). Vi starter vores tÃ¸ndeslagnin
 g kl. 1100. Kom og gÃ¸r en[..]\nhttps://farumkyokushin.dk/events/fastelavn-
 paa-farum-bytorv/
URL:https://farumkyokushin.dk/events/fastelavn-paa-farum-bytorv/
END:VEVENT
END:VCALENDAR