BEGIN:VCALENDAR
VERSION:2.0
PRODID:-//eventon.com NONSGML v1.0//EN
CALSCALE:GREGORIAN
METHOD:PUBLISH
BEGIN:VEVENT
UID:69e57d21021be
DTSTAMP:20260420T011057Z
DTSTART:20180208T170000Z
DTEND:20180208T183000Z
LOCATION:Farum Kyokushin Karate Ryttergårdsvej 140\,  3520 Farum
SUMMARY:Fastlavn i klubben
DESCRIPTION:Torsdag d. 8. februar 2018 afholdes der fastelavn for alle aldr
 e og grader! Det vil være fællestræning kl. 1800 &#8211; 1930.\nhttps://
 farumkyokushin.dk/events/fastlavn-i-klubben/
URL:https://farumkyokushin.dk/events/fastlavn-i-klubben/
END:VEVENT
END:VCALENDAR