BEGIN:VCALENDAR
VERSION:2.0
PRODID:-//eventon.com NONSGML v1.0//EN
CALSCALE:GREGORIAN
METHOD:PUBLISH
BEGIN:VEVENT
UID:69e5941821761
DTSTAMP:20260420T024856Z
DTSTART:20180505T060000Z
DTEND:20180505T215000Z
LOCATION:Næstved Hallen Rolighedsvej 20\,  4700 Næstved
SUMMARY:Shin-Go-Ryu Cup 2018
DESCRIPTION:Indbydelse_shin-go-ryu_cup2018 Semi_kamptregler\nhttps://farumk
 yokushin.dk/events/shin-go-ryu-cup-2018/
URL:https://farumkyokushin.dk/events/shin-go-ryu-cup-2018/
END:VEVENT
END:VCALENDAR