BEGIN:VCALENDAR
VERSION:2.0
PRODID:-//eventon.com NONSGML v1.0//EN
CALSCALE:GREGORIAN
METHOD:PUBLISH
BEGIN:VEVENT
UID:69e5a83e5193b
DTSTAMP:20260420T041454Z
DTSTART:20180101T140000Z
DTEND:20180101T160000Z
LOCATION:Farum Kyokushin Karate RyttergÃ¥rdsvej 140\,  3520 Farum
SUMMARY:Kagami Biraki - NytÃ¥rstrÃ¦ning
DESCRIPTION:D. 1. januar afholder Farum Kyokushin hvert Ã¥r nytÃ¥rstrÃ¦ning
 \,  og 2018 er ingen undtagelse. &nbsp; Spark og slÃ¥ Ã¥ret ind og sÃ¦t sam
 tidig din personlige standard for resten af 2018! &nbsp; NytÃ¥rstrÃ¦ningen 
 er for alle aldre og grader og afholdes kl. 1500 &#8211; 1700. Al anden trÃ
 ¦ning samme dag vil[..]\nhttps://farumkyokushin.dk/events/kagami-biraki-nyt
 aarstraening/
URL:https://farumkyokushin.dk/events/kagami-biraki-nytaarstraening/
END:VEVENT
END:VCALENDAR