BEGIN:VCALENDAR
VERSION:2.0
PRODID:-//eventon.com NONSGML v1.0//EN
CALSCALE:GREGORIAN
METHOD:PUBLISH
BEGIN:VEVENT
UID:69e431054e441
DTSTAMP:20260419T013357Z
DTSTART:20171221T163000Z
DTEND:20171221T181500Z
LOCATION:Farum Kyokushin Karate Ryttergårdsvej 140\,  3520 Farum
SUMMARY:Juleafslutning
DESCRIPTION:Torsdag d. 21. december 2017 afholdes der juleafslutning for al
 le aldre og grader. &nbsp; Træningen vil foregå kl. 1730 &#8211; 1915\,  
 og der vil efterfølgende være julehygge i opholdsrummet.&nbsp;Al anden tr
 æning samme dag vil være aflyst.\nhttps://farumkyokushin.dk/events/juleaf
 slutning-3/
URL:https://farumkyokushin.dk/events/juleafslutning-3/
END:VEVENT
END:VCALENDAR