BEGIN:VCALENDAR
VERSION:2.0
PRODID:-//eventon.com NONSGML v1.0//EN
CALSCALE:GREGORIAN
METHOD:PUBLISH
BEGIN:VEVENT
UID:69e89a83efbb8
DTSTAMP:20260422T095307Z
DTSTART:20171206T153000Z
DTEND:20171206T183000Z
LOCATION:Farum Kyokushin Karate Ryttergårdsvej 140\,  3520 Farum
SUMMARY:Julehygge for børneholdet
DESCRIPTION:boernejulehygge-dec2017\nhttps://farumkyokushin.dk/events/juleh
 ygge-for-boerneholdet/
URL:https://farumkyokushin.dk/events/julehygge-for-boerneholdet/
END:VEVENT
END:VCALENDAR