BEGIN:VCALENDAR
VERSION:2.0
PRODID:-//eventon.com NONSGML v1.0//EN
CALSCALE:GREGORIAN
METHOD:PUBLISH
BEGIN:VEVENT
UID:69e8b486e0732
DTSTAMP:20260422T114406Z
DTSTART:20180414T080000Z
DTEND:20180414T215000Z
LOCATION:BS Karate Tuborgvej 185\,  2400 København NV
SUMMARY:BS Cup 2018
DESCRIPTION:BSCup-I.K.O.Matsushima2018 Klik på pilene for at skifte mellem
  siderne.\nhttps://farumkyokushin.dk/events/bs-cup-2018/
URL:https://farumkyokushin.dk/events/bs-cup-2018/
END:VEVENT
END:VCALENDAR