BEGIN:VCALENDAR
VERSION:2.0
PRODID:-//eventon.com NONSGML v1.0//EN
CALSCALE:GREGORIAN
METHOD:PUBLISH
BEGIN:VEVENT
UID:69e8ceacab45c
DTSTAMP:20260422T133540Z
DTSTART:20171023T163000Z
DTEND:20171023T180000Z
LOCATION:Farum Kyokushin Karate Ryttergårdsvej 140\,  3520 Farum
SUMMARY:Forprøve for aspiranter til 5. kyu og op
DESCRIPTION:Mandag d. 23. oktober kl. 1830 til cirka 2000&nbsp;vil der vær
 e forprøve for aspiranter til 5. kyu og op. Eventuelle spørgsmål rettes 
 til en senpai i klubben eller til senpai-mailen under &#8220;Kontakt&#8221;
 .\nhttps://farumkyokushin.dk/events/forproeve-aspiranter-5-kyu/
URL:https://farumkyokushin.dk/events/forproeve-aspiranter-5-kyu/
END:VEVENT
END:VCALENDAR