BEGIN:VCALENDAR
VERSION:2.0
PRODID:-//eventon.com NONSGML v1.0//EN
CALSCALE:GREGORIAN
METHOD:PUBLISH
BEGIN:VEVENT
UID:69e8ea9bd43e3
DTSTAMP:20260422T153451Z
DTSTART:20171023T150000Z
DTEND:20171023T163000Z
LOCATION:Farum Kyokushin Karate Ryttergårdsvej 140\,  3520 Farum
SUMMARY:Forprøve for aspiranter til 8. - 6. kyu
DESCRIPTION:Mandag d. 23. oktober kl. 1700 &#8211; 1830 vil der være forpr
 øve for 8. &#8211; 6. kyu-aspiranter. Eventuelle spørgsmål rettes til en
  senpai i klubben eller til senpai-mailen under &#8220;Kontakt&#8221;.\nhtt
 ps://farumkyokushin.dk/events/forproeve-aspiranter-8-6-kyu/
URL:https://farumkyokushin.dk/events/forproeve-aspiranter-8-6-kyu/
END:VEVENT
END:VCALENDAR