BEGIN:VCALENDAR
VERSION:2.0
PRODID:-//eventon.com NONSGML v1.0//EN
CALSCALE:GREGORIAN
METHOD:PUBLISH
BEGIN:VEVENT
UID:69e9042f96fbf
DTSTAMP:20260422T172359Z
DTSTART:20171119T090000Z
DTEND:20171119T225000Z
LOCATION:BS Karate Tuborgvej 185\,  2400 København NV
SUMMARY:BS Karate - Katastævne 2017
DESCRIPTION:KATASTAEVNE-2017-19-november\nhttps://farumkyokushin.dk/events/
 bs-karate-katastaevne-2017/
URL:https://farumkyokushin.dk/events/bs-karate-katastaevne-2017/
END:VEVENT
END:VCALENDAR