BEGIN:VCALENDAR
VERSION:2.0
PRODID:-//eventon.com NONSGML v1.0//EN
CALSCALE:GREGORIAN
METHOD:PUBLISH
BEGIN:VEVENT
UID:69e9229d86e5f
DTSTAMP:20260422T193349Z
DTSTART:20171211T160000Z
DTEND:20171211T225000Z
LOCATION:Farum Kyokushin Karate Ryttergårdsvej 140\,  3520 Farum
SUMMARY:Graduering for gul og op\,  december 2017
DESCRIPTION:Mandag d. 11. december 2017&nbsp;afholdes&nbsp;der graduering f
 or organge- og blåbælter. Gradueringen&nbsp;vil starte kl. 1700. Bæltepr
 øve (graduering): 100 kr. Desuden 50 kr. hvis bæltet skal skiftes til ny 
 farve efter graduering. Begge betales inden gradueringen til konto 1551-104
 81376. Konto 1551-10481376 &#8211; til brug ved indbetaling til lejre\,  gr
 adueringer mv.\nhttps://farumkyokushin.dk/events/graduering-gul-december-20
 17/
URL:https://farumkyokushin.dk/events/graduering-gul-december-2017/
END:VEVENT
END:VCALENDAR