BEGIN:VCALENDAR
VERSION:2.0
PRODID:-//eventon.com NONSGML v1.0//EN
CALSCALE:GREGORIAN
METHOD:PUBLISH
BEGIN:VEVENT
UID:69e9445e822c6
DTSTAMP:20260422T215750Z
DTSTART:20171207T160000Z
DTEND:20171207T170000Z
LOCATION:Farum Kyokushin Karate Ryttergårdsvej 140\,  3520 Farum
SUMMARY:Graduering for begyndere\,  december 2017
DESCRIPTION:Torsdag d. 7. december 2017&nbsp;afholdes&nbsp;der graduering f
 or organge- og blåbælter. Gradueringen&nbsp;vil blive afholdt kl. 1700 &#
 8211; 1800. Bælteprøve (graduering): 100 kr. Desuden 50 kr. hvis bæltet 
 skal skiftes til ny farve efter graduering. Begge betales inden gradueringe
 n til konto 1551-10481376. Konto 1551-10481376 &#8211; til brug ved indbeta
 ling til lejre\,  gradueringer[..]\nhttps://farumkyokushin.dk/events/gradue
 ring-begyndere-december-2017/
URL:https://farumkyokushin.dk/events/graduering-begyndere-december-2017/
END:VEVENT
END:VCALENDAR