BEGIN:VCALENDAR
VERSION:2.0
PRODID:-//eventon.com NONSGML v1.0//EN
CALSCALE:GREGORIAN
METHOD:PUBLISH
BEGIN:VEVENT
UID:69e95d2fbcca9
DTSTAMP:20260422T234343Z
DTSTART:20171204T160000Z
DTEND:20171204T225000Z
LOCATION:Farum Kyokushin Karate Ryttergårdsvej 140\,  3520 Farum
SUMMARY:Graduering for orange og blå\,  december 2017
DESCRIPTION:Mandag d. 4. december 2017&nbsp;afholdes&nbsp;der graduering fo
 r organge- og blåbælter. Gradueringen&nbsp;starter kl. 1700. Bælteprøve
  (graduering): 100 kr. Desuden 50 kr. hvis bæltet skal skiftes til ny farv
 e efter graduering. Begge betales inden gradueringen til konto 1551-1048137
 6. Konto 1551-10481376 &#8211; til brug ved indbetaling til lejre\,  gradue
 ringer mv.\nhttps://farumkyokushin.dk/events/graduering-orange-blaa-decembe
 r-2017/
URL:https://farumkyokushin.dk/events/graduering-orange-blaa-december-2017/
END:VEVENT
END:VCALENDAR