BEGIN:VCALENDAR
VERSION:2.0
PRODID:-//eventon.com NONSGML v1.0//EN
CALSCALE:GREGORIAN
METHOD:PUBLISH
BEGIN:VEVENT
UID:69e904eb04c6d
DTSTAMP:20260422T172707Z
DTSTART:20171203T083000Z
DTEND:20171203T103000Z
LOCATION:Farum Kyokushin Karate Ryttergårdsvej 140\,  3520 Farum
SUMMARY:Graduering for børn\,  december 2017
DESCRIPTION:Søndag&nbsp;d. 3. december 2017&nbsp;afholdes&nbsp;der graduer
 ing for børn. Gradueringen&nbsp;vil blive afholdt kl. 0930 &#8211; 1130. B
 ælteprøve (graduering): 100 kr. Desuden 50 kr. hvis bæltet skal skiftes 
 til ny farve efter graduering. Begge betales inden gradueringen til konto 1
 551-10481376. Konto 1551-10481376 &#8211; til brug ved indbetaling til lejr
 e\,  gradueringer mv.\nhttps://farumkyokushin.dk/events/graduering-boern-de
 cember-2017/
URL:https://farumkyokushin.dk/events/graduering-boern-december-2017/
END:VEVENT
END:VCALENDAR