BEGIN:VCALENDAR
VERSION:2.0
PRODID:-//eventon.com NONSGML v1.0//EN
CALSCALE:GREGORIAN
METHOD:PUBLISH
BEGIN:VEVENT
UID:69e992ce4bf4e
DTSTAMP:20260423T033230Z
DTSTART:20170825T170000Z
DTEND:20170827T140000Z
LOCATION:Danhostel Møn Klintholm Havnevej 17a\,  4791 Borre
SUMMARY:Mønlejr 2017
DESCRIPTION:[gview file=&#8221;https://farumkyokushin.dk/wp-content/uploads
 /2017/05/Moenlejr2017.pdf&#8221; height=&#8221;400px&#8221; width=&#8221;10
 0%&#8221; save=&#8221;1&#8243;]\nhttps://farumkyokushin.dk/events/moenlejr-
 2017/
URL:https://farumkyokushin.dk/events/moenlejr-2017/
END:VEVENT
END:VCALENDAR