BEGIN:VCALENDAR
VERSION:2.0
PRODID:-//eventon.com NONSGML v1.0//EN
CALSCALE:GREGORIAN
METHOD:PUBLISH
BEGIN:VEVENT
UID:69e9afb495294
DTSTAMP:20260423T053548Z
DTSTART:20170803T120000Z
DTEND:20170807T060000Z
LOCATION:Centrum Kongresów i Rekreacji Orle Gniazdo Wrzosowa 28a\,  43-370 Szczyrk\,  Polen
SUMMARY:IKO Matsushima European Summer Camp 2017
DESCRIPTION:Al information vedrørende årets polske sommerlejr kan læses 
 på facebook: https://www.facebook.com/events/566772540164573/\nhttps://far
 umkyokushin.dk/events/iko-matsushima-european-summer-camp-2017/
URL:https://farumkyokushin.dk/events/iko-matsushima-european-summer-camp-2017/
END:VEVENT
END:VCALENDAR