BEGIN:VCALENDAR
VERSION:2.0
PRODID:-//eventon.com NONSGML v1.0//EN
CALSCALE:GREGORIAN
METHOD:PUBLISH
BEGIN:VEVENT
UID:69e9c9d09a726
DTSTAMP:20260423T072712Z
DTSTART:20170611T073000Z
DTEND:20170611T093000Z
LOCATION:Farum Kyokushin Karate Ryttergårdsvej 140\,  3520 Farum
SUMMARY:Graduering for børn
DESCRIPTION:Søndag&nbsp;d. 11. juni 2017&nbsp;afholdes&nbsp;der graduering
  for børn. Gradueringen&nbsp;vil blive afholdt kl. 0930 &#8211; 1130. Bæl
 teprøve (graduering): 100 kr. Desuden 50 kr. hvis bæltet skal skiftes til
  ny farve efter graduering. Begge betales inden gradueringen til konto 1551
 -10481376. Konto 1551-10481376 &#8211; til brug ved indbetaling til lejre\,
   gradueringer mv.\nhttps://farumkyokushin.dk/events/graduering-for-boern/
URL:https://farumkyokushin.dk/events/graduering-for-boern/
END:VEVENT
END:VCALENDAR