BEGIN:VCALENDAR
VERSION:2.0
PRODID:-//eventon.com NONSGML v1.0//EN
CALSCALE:GREGORIAN
METHOD:PUBLISH
BEGIN:VEVENT
UID:69e91768c1e76
DTSTAMP:20260422T184600Z
DTSTART:20170515T163000Z
DTEND:20170515T180000Z
LOCATION:Farum Kyokushin Karate Ryttergårdsvej 140\,  3520 Farum
SUMMARY:Forprøve\,  mandag d. 15. maj kl. 1830 - 2000
DESCRIPTION:Mandag d. 15. maj 2017&nbsp;afholdes&nbsp;der forprøve på det
  almindelige hold kl.&nbsp;1830 &#8211; 2000. Forprøven er kun for dem\,  
 der påtænker at gå til graduering. Spørgsmål kan rettes til instruktø
 rene. &nbsp;\nhttps://farumkyokushin.dk/events/forproeve-mandag-d-15-maj-20
 17-2/
URL:https://farumkyokushin.dk/events/forproeve-mandag-d-15-maj-2017-2/
END:VEVENT
END:VCALENDAR