BEGIN:VCALENDAR
VERSION:2.0
PRODID:-//eventon.com NONSGML v1.0//EN
CALSCALE:GREGORIAN
METHOD:PUBLISH
BEGIN:VEVENT
UID:69e920b888d90
DTSTAMP:20260422T192544Z
DTSTART:20170516T160000Z
DTEND:20170516T173000Z
LOCATION:Farum Kyokushin Karate Ryttergårdsvej 140\,  3520 Farum
SUMMARY:Forprøve\,  tirsdag d. 16. maj kl. 1800 - 1930
DESCRIPTION:Tirsdag&nbsp;d. 16. maj 2017&nbsp;afholdes&nbsp;der forprøve p
 å det almindelige hold kl.&nbsp;1800 &#8211; 1930. Forprøven er kun for d
 em\,  der påtænker at gå til graduering. Spørgsmål kan rettes til inst
 ruktørene. &nbsp;\nhttps://farumkyokushin.dk/events/forproeve-tirsdag-d-16
 -maj-2017/
URL:https://farumkyokushin.dk/events/forproeve-tirsdag-d-16-maj-2017/
END:VEVENT
END:VCALENDAR