BEGIN:VCALENDAR
VERSION:2.0
PRODID:-//eventon.com NONSGML v1.0//EN
CALSCALE:GREGORIAN
METHOD:PUBLISH
BEGIN:VEVENT
UID:69e9dea4e63f5
DTSTAMP:20260423T085604Z
DTSTART:20170515T150000Z
DTEND:20170515T163000Z
LOCATION:Farum Kyokushin Karate Ryttergårdsvej 140\,  3520 Farum
SUMMARY:Forprøve\,  mandag d. 15. maj kl. 1700 - 1830
DESCRIPTION:Mandag d. 15. maj 2017&nbsp;afholdes&nbsp;der forprøve på det
  almindelige hold kl. 1700 &#8211; 1830. Forprøven er kun for dem\,  der p
 åtænker at gå til graduering. Spørgsmål kan rettes til instruktørene.
  &nbsp;\nhttps://farumkyokushin.dk/events/forproeve-mandag-d-15-maj-2017/
URL:https://farumkyokushin.dk/events/forproeve-mandag-d-15-maj-2017/
END:VEVENT
END:VCALENDAR