BEGIN:VCALENDAR
VERSION:2.0
PRODID:-//eventon.com NONSGML v1.0//EN
CALSCALE:GREGORIAN
METHOD:PUBLISH
BEGIN:VEVENT
UID:69e9811238183
DTSTAMP:20260423T021650Z
DTSTART:20170611T103000Z
DTEND:20170610T220000Z
LOCATION:Farum Kyokushin Karate Ryttergårdsvej 140\,  3520 Farum
SUMMARY:Graduering for øvrige voksne
DESCRIPTION:Søndag&nbsp;d. 11. juni 2017&nbsp;afholdes der graduering for&
 nbsp;øvrige voksne. Gradueringen vil starte kl. 1230. Bælteprøve (gradue
 ring): 100 kr. Desuden 50 kr. hvis bæltet skal skiftes til ny farve efter 
 graduering. Begge betales inden gradueringen til konto 1551-10481376. Konto
  1551-10481376 &#8211; til brug ved indbetaling til lejre\,  gradueringer m
 v.\nhttps://farumkyokushin.dk/events/graduering-oevrige-voksne/
URL:https://farumkyokushin.dk/events/graduering-oevrige-voksne/
END:VEVENT
END:VCALENDAR