BEGIN:VCALENDAR
VERSION:2.0
PRODID:-//eventon.com NONSGML v1.0//EN
CALSCALE:GREGORIAN
METHOD:PUBLISH
BEGIN:VEVENT
UID:69ea58cd86d8c
DTSTAMP:20260423T173717Z
DTSTART:20170608T144500Z
DTEND:20170608T160000Z
LOCATION:Farum Kyokushin Karate Ryttergårdsvej 140\,  3520 Farum
SUMMARY:Graduering for begynderholdet
DESCRIPTION:Torsdag d. 8. juni 2017&nbsp;afholdes der graduering for begynd
 erholdet. Gradueringen&nbsp;vil blive afholdt kl. 16.45 &#8211; 18.00. Bæl
 teprøve (graduering): 100 kr. Desuden 50 kr. hvis bæltet skal skiftes til
  ny farve efter graduering. Begge betales inden gradueringen til konto 1551
 -10481376. Konto 1551-10481376 &#8211; til brug ved indbetaling til lejre\,
   gradueringer mv.\nhttps://farumkyokushin.dk/events/graduering-for-begynde
 rholdet/
URL:https://farumkyokushin.dk/events/graduering-for-begynderholdet/
END:VEVENT
END:VCALENDAR