BEGIN:VCALENDAR
VERSION:2.0
PRODID:-//eventon.com NONSGML v1.0//EN
CALSCALE:GREGORIAN
METHOD:PUBLISH
BEGIN:VEVENT
UID:69ea75c75ebbb
DTSTAMP:20260423T194055Z
DTSTART:20170427T164500Z
DTEND:20170426T220000Z
LOCATION:Farum Kyokushin Karate Ryttergårdsvej 140\,  3520 Farum
SUMMARY:Generalforsamling 2017
DESCRIPTION:[gview file=&#8221;https://farumkyokushin.dk/wp-content/uploads
 /2017/03/Indkaldelse-til-Generalforsamling-2017.pdf&#8221; height=&#8221;40
 0px&#8221; width=&#8221;100%&#8221; save=&#8221;1&#8243;]\nhttps://farumkyo
 kushin.dk/events/generalforsamling-2017/
URL:https://farumkyokushin.dk/events/generalforsamling-2017/
END:VEVENT
END:VCALENDAR