BEGIN:VCALENDAR
VERSION:2.0
PRODID:-//eventon.com NONSGML v1.0//EN
CALSCALE:GREGORIAN
METHOD:PUBLISH
BEGIN:VEVENT
UID:69ea8cf324ad0
DTSTAMP:20260423T211947Z
DTSTART:20170506T060000Z
DTEND:20170505T220000Z
LOCATION:Næstved Hallen Rolighedsvej 20\,  4700 Næstved
SUMMARY:Shin Go Ryu Cup 2017
DESCRIPTION:Al information kan læses på hjemmesiden for Shin Go Ryu Cup 2
 017.\nhttps://farumkyokushin.dk/events/shin-go-ryu-cup-2017/
URL:https://farumkyokushin.dk/events/shin-go-ryu-cup-2017/
END:VEVENT
END:VCALENDAR