BEGIN:VCALENDAR
VERSION:2.0
PRODID:-//eventon.com NONSGML v1.0//EN
CALSCALE:GREGORIAN
METHOD:PUBLISH
BEGIN:VEVENT
UID:69eaa6f2a4a33
DTSTAMP:20260423T231042Z
DTSTART:20170623T120000Z
DTEND:20170625T120000Z
LOCATION:Bosei Idrætshøjskole Evensølundvej 5\,  Præstø
SUMMARY:Sosai Mindelejr 2017 - Oyama Kinen Gassuko - Bosei
DESCRIPTION:[gview file=&#8221;https://farumkyokushin.dk/wp-content/uploads
 /2017/02/2017-Oyama-Memorial-Spirit-Camp-6th-Oyama-Kinen-Gassuko.pdf&#8221;
  height=&#8221;450px&#8221; width=&#8221;100%&#8221; save=&#8221;1&#8243;]\
 nhttps://farumkyokushin.dk/events/sosai-mindelejr-2017-oyama-kinen-gassuko-
 bosei/
URL:https://farumkyokushin.dk/events/sosai-mindelejr-2017-oyama-kinen-gassuko-bosei/
END:VEVENT
END:VCALENDAR