BEGIN:VCALENDAR
VERSION:2.0
PRODID:-//eventon.com NONSGML v1.0//EN
CALSCALE:GREGORIAN
METHOD:PUBLISH
BEGIN:VEVENT
UID:69eabf5e3811f
DTSTAMP:20260424T005454Z
DTSTART:20170302T154500Z
DTEND:20170302T170000Z
LOCATION:Farum Kyokushin Karate Ryttergårdsvej 140\,  3520 Farum
SUMMARY:Graduering for begyndere
DESCRIPTION:Torsdag d. 2. marts 2017&nbsp;afholdes der graduering for begyn
 derholdet. Gradueringen&nbsp;vil blive afholdt kl. 16.45 &#8211; 18.00. Bæ
 lteprøve (graduering): 100 kr. Desuden 50 kr. hvis bæltet skal skiftes ti
 l ny farve efter graduering. Begge betales inden gradueringen til konto 155
 1-10481376. Konto 1551-10481376 &#8211; til brug ved indbetaling til lejre\
 ,  gradueringer mv.\nhttps://farumkyokushin.dk/events/graduering-for-begynd
 ere/
URL:https://farumkyokushin.dk/events/graduering-for-begyndere/
END:VEVENT
END:VCALENDAR