BEGIN:VCALENDAR
VERSION:2.0
PRODID:-//eventon.com NONSGML v1.0//EN
CALSCALE:GREGORIAN
METHOD:PUBLISH
BEGIN:VEVENT
UID:69eadbd54d9da
DTSTAMP:20260424T025621Z
DTSTART:20170401T080000Z
DTEND:20170331T220000Z
LOCATION:BS Karate Tuborgvej 185\,  2400 København NV
SUMMARY:BS Cup 2017
DESCRIPTION:[gview file=&#8221;https://farumkyokushin.dk/wp-content/uploads
 /2016/11/BSCup-I.K.O.Matsushima2017.pdf&#8221; height=&#8221;400px&#8221; w
 idth=&#8221;100%&#8221; save=&#8221;1&#8243;] [gview file=&#8221;https://fa
 rumkyokushin.dk/wp-content/uploads/2016/11/BS-Cup-laegeseddel.pdf&#8221; he
 ight=&#8221;400px&#8221; width=&#8221;100%&#8221; save=&#8221;1&#8243;]\nht
 tps://farumkyokushin.dk/events/bs-cup-2017/
URL:https://farumkyokushin.dk/events/bs-cup-2017/
END:VEVENT
END:VCALENDAR