BEGIN:VCALENDAR
VERSION:2.0
PRODID:-//eventon.com NONSGML v1.0//EN
CALSCALE:GREGORIAN
METHOD:PUBLISH
BEGIN:VEVENT
UID:69eafe848013d
DTSTAMP:20260424T052420Z
DTSTART:20161210T163000Z
DTEND:20161209T230000Z
LOCATION:Farum Kyokushin Karate Ryttergårdsvej 140\,  3520 Farum
SUMMARY:Julefrokost 2016
DESCRIPTION:[gview file=&#8221;https://farumkyokushin.dk/wp-content/uploads
 /2016/11/Julefrokost-FKK-2016.pdf&#8221; height=&#8221;400px&#8221; width=&
 #8221;100%&#8221; save=&#8221;1&#8243;]\nhttps://farumkyokushin.dk/events/j
 ulefrokost-2016/
URL:https://farumkyokushin.dk/events/julefrokost-2016/
END:VEVENT
END:VCALENDAR