BEGIN:VCALENDAR
VERSION:2.0
PRODID:-//eventon.com NONSGML v1.0//EN
CALSCALE:GREGORIAN
METHOD:PUBLISH
BEGIN:VEVENT
UID:69eb1b7157a68
DTSTAMP:20260424T072745Z
DTSTART:20161219T170000Z
DTEND:20161219T183000Z
LOCATION:Farum Kyokushin Karate Ryttergårdsvej 140\,  3520 Farum
SUMMARY:Juleafslutning 2016
DESCRIPTION:Mandag d. 19. december kl. 1800 &#8211; 1900 vil der kun være
  fællestræning for alle aldre og grader. &nbsp; Husk at medbringe den obl
 igatoriske nissehue!\nhttps://farumkyokushin.dk/events/juleafslutning-2016/
URL:https://farumkyokushin.dk/events/juleafslutning-2016/
END:VEVENT
END:VCALENDAR