BEGIN:VCALENDAR
VERSION:2.0
PRODID:-//eventon.com NONSGML v1.0//EN
CALSCALE:GREGORIAN
METHOD:PUBLISH
BEGIN:VEVENT
UID:69eb365a05862
DTSTAMP:20260424T092234Z
DTSTART:20161105T090000Z
DTEND:20161104T230000Z
LOCATION:BS Karate Tuborgvej 185\,  2400 København NV
SUMMARY:Katastævne v/ BS Karate
DESCRIPTION:[gview file=&#8221;https://farumkyokushin.dk/wp-content/uploads
 /2016/10/KATASTAEVNE-2016-BSkarate.pdf&#8221; height=&#8221;400px&#8221; wi
 dth=&#8221;100%&#8221; save=&#8221;1&#8243;]\nhttps://farumkyokushin.dk/eve
 nts/katastaevne-v-bs-karate/
URL:https://farumkyokushin.dk/events/katastaevne-v-bs-karate/
END:VEVENT
END:VCALENDAR