BEGIN:VCALENDAR
VERSION:2.0
PRODID:-//eventon.com NONSGML v1.0//EN
CALSCALE:GREGORIAN
METHOD:PUBLISH
BEGIN:VEVENT
UID:69eb528bb849e
DTSTAMP:20260424T112251Z
DTSTART:20161007
DTEND:20161008
LOCATION:Farum Kyokushin Karate Ryttergårdsvej 140\,  3520 Farum
SUMMARY:Børne marathonlejr
DESCRIPTION:Maraton-lejren er et døgn hvor børnene vil kunne opleve en ma
 sse karate\,  der både dækker vores pensum af kihon\,  ido kihon\,  kata\
 ,  styrke og kamp &#8211; men også prøve kræfter med nogle andre emner d
 er kunne være mere fri-kamp relateret og fald-teknik eller måske træning
  med våben som fx bo-stav[..]\nhttps://farumkyokushin.dk/events/boerne-mar
 athonlejr/
URL:https://farumkyokushin.dk/events/boerne-marathonlejr/
END:VEVENT
END:VCALENDAR