BEGIN:VCALENDAR
VERSION:2.0
PRODID:-//eventon.com NONSGML v1.0//EN
CALSCALE:GREGORIAN
METHOD:PUBLISH
BEGIN:VEVENT
UID:69eb6dee09812
DTSTAMP:20260424T131942Z
DTSTART:20160902T160000Z
DTEND:20160904T130000Z
LOCATION:Birkemoselejren Slangerup Ås 8\,  3550 Slangerup
SUMMARY:Sommerlejr hos BS Karate
DESCRIPTION:[gview file=&#8221;https://farumkyokushin.dk/wp-content/uploads
 /2016/08/Sommerlejr2016brochure_A4.pdf&#8221; height=&#8221;450px&#8221; wi
 dth=&#8221;100%&#8221; save=&#8221;1&#8243;]\nhttps://farumkyokushin.dk/eve
 nts/sommerlejr-bs-karate/
URL:https://farumkyokushin.dk/events/sommerlejr-bs-karate/
END:VEVENT
END:VCALENDAR