BEGIN:VCALENDAR
VERSION:2.0
PRODID:-//eventon.com NONSGML v1.0//EN
CALSCALE:GREGORIAN
METHOD:PUBLISH
BEGIN:VEVENT
UID:69eb8b401c866
DTSTAMP:20260424T152448Z
DTSTART:20160826
DTEND:20160827
LOCATION:Danhostel Møn Klintholm Havnevej 17a\,  4791 Borre
SUMMARY:Mønlejr 2016
DESCRIPTION:[gview file=&#8221;https://farumkyokushin.dk/Filer/Lejre/Monlej
 r_2016.pdf&#8221; height=&#8221;400px&#8221; width=&#8221;100%&#8221; save=
 &#8221;1&#8243;]\nhttps://farumkyokushin.dk/events/moenlejr-2016/
URL:https://farumkyokushin.dk/events/moenlejr-2016/
END:VEVENT
END:VCALENDAR