BEGIN:VCALENDAR
VERSION:2.0
PRODID:-//eventon.com NONSGML v1.0//EN
CALSCALE:GREGORIAN
METHOD:PUBLISH
BEGIN:VEVENT
UID:69eba6e10d9f4
DTSTAMP:20260424T172241Z
DTSTART:20160728
DTEND:20160729
LOCATION:Bor Lake\,  Serbien
SUMMARY:8th European kyokushinkai Karate Summer Camp
DESCRIPTION:Den europæiske sommerlejr afholdes i år i Serbien fra d. 28. 
 juli til 1. august. Lejren forestås af Shihan Klaus Rex\,  6-dan\,  Denmar
 k\,  EKO Chairman Shihan Sergey Lukyanchikov-Levitin 6-dan\,  Ukraine\,  EK
 O Vice-chairman Shihan Gabriel Barluenga 6-dan\,  Spain Shihan Roman Kucfir
  6-dan\,  Great Britain Shihan Henrik Rosager 5-dan\,  Denmark Prisen for[.
 .]\nhttps://farumkyokushin.dk/events/8th-european-kyokushinkai-karate-summe
 r-camp/
URL:https://farumkyokushin.dk/events/8th-european-kyokushinkai-karate-summer-camp/
END:VEVENT
END:VCALENDAR