BEGIN:VCALENDAR
VERSION:2.0
PRODID:-//eventon.com NONSGML v1.0//EN
CALSCALE:GREGORIAN
METHOD:PUBLISH
BEGIN:VEVENT
UID:69ebc331e5532
DTSTAMP:20260424T192329Z
DTSTART:20160402T060000Z
DTEND:20160401T220000Z
LOCATION:BS Karate Tuborgvej 185\,  2400 København NV
SUMMARY:BS Cup 2016
DESCRIPTION:[gview file=&#8221;https://farumkyokushin.dk/wp-content/uploads
 /2016/03/BSCup-I.K.O.Matsushima2016.pdf&#8221; height=&#8221;450px&#8221; w
 idth=&#8221;100%&#8221; save=&#8221;1&#8243;]\nhttps://farumkyokushin.dk/ev
 ents/bs-cup-2016/
URL:https://farumkyokushin.dk/events/bs-cup-2016/
END:VEVENT
END:VCALENDAR